BEGIN:VCALENDAR
VERSION:2.0
PRODID:-//South Shoalhaven - ECPv6.6.2//NONSGML v1.0//EN
CALSCALE:GREGORIAN
METHOD:PUBLISH
X-WR-CALNAME:South Shoalhaven
X-ORIGINAL-URL:https://staging.southshoalhaven.com.au
X-WR-CALDESC:Events for South Shoalhaven
REFRESH-INTERVAL;VALUE=DURATION:PT1H
X-Robots-Tag:noindex
X-PUBLISHED-TTL:PT1H
BEGIN:VTIMEZONE
TZID:Australia/Sydney
BEGIN:STANDARD
TZOFFSETFROM:+1100
TZOFFSETTO:+1000
TZNAME:AEST
DTSTART:20260404T160000
END:STANDARD
BEGIN:DAYLIGHT
TZOFFSETFROM:+1000
TZOFFSETTO:+1100
TZNAME:AEDT
DTSTART:20261003T160000
END:DAYLIGHT
END:VTIMEZONE
BEGIN:VEVENT
DTSTART;TZID=Australia/Sydney:20260423T080000
DTEND;TZID=Australia/Sydney:20260423T170000
DTSTAMP:20260423T014956
CREATED:20241121T015025Z
LAST-MODIFIED:20241121T015336Z
UID:10000335-1776931200-1776963600@staging.southshoalhaven.com.au
SUMMARY:My Toddler & Me Group – Wolli Creek
DESCRIPTION:
URL:https://staging.southshoalhaven.com.au/event/my-toddler-me/2026-04-23/
LOCATION:Safe Haven\, Campbelltown\, City of Campbelltown\, 2560\, Australia
CATEGORIES:My Toddler & Me Category
GEO:-34.0666148;150.8195571
END:VEVENT
END:VCALENDAR